BEGIN:VCALENDAR
VERSION:2.0
PRODID:-//ChamberMaster//Event Calendar 2.0//EN
METHOD:PUBLISH
X-PUBLISHED-TTL:P3D
REFRESH-INTERVAL:P3D
CALSCALE:GREGORIAN
BEGIN:VEVENT
DTSTART:20191215T210000Z
DTEND:20191215T230000Z
X-MICROSOFT-CDO-ALLDAYEVENT:FALSE
SUMMARY:Afternoon Crafting: Holiday Dream Catchers
DESCRIPTION:Participants are invited to relax and create holiday dream catchers. This event is FREE and is in conjunction with the exhibit Natural Expressions: Art Inspired by Mendocino County. While supplies last\; all materials will be provided.
X-ALT-DESC;FMTTYPE=text/html:Participants are invited to relax and create holiday dream catchers. This event is FREE and is in conjunction with the exhibit Natural Expressions: Art Inspired by Mendocino County. While supplies last\; all materials will be provided.
LOCATION:Mendocino County Museum Interactive Room 400 E. Commercial St. Willits\, CA 95490
UID:e.2883.12451
SEQUENCE:3
DTSTAMP:20260421T234100Z
URL:http://mendocinocoast.smartcms.site/events/details/afternoon-crafting-holiday-dream-catchers-12451
END:VEVENT

END:VCALENDAR
