BEGIN:VCALENDAR
VERSION:2.0
PRODID:-//ChamberMaster//Event Calendar 2.0//EN
METHOD:PUBLISH
X-PUBLISHED-TTL:P3D
REFRESH-INTERVAL:P3D
CALSCALE:GREGORIAN
BEGIN:VEVENT
DTSTART:20181026T020000Z
DTEND:20181026T030000Z
X-MICROSOFT-CDO-ALLDAYEVENT:FALSE
SUMMARY:Adult Book Club-NEA Big Read selection Pretty Monsters
DESCRIPTION:NEA Big Read 2018 Selection Pretty Monsters by Kelly Link will be reviewed. In these nine stories\, blending humor\, the supernatural\, and teen angst\, bizarre and wonderful things occur. Get your free copy of Pretty Monsters at any Mendocino County Library Branch beginning October 2nd and join us for the Big Read!
X-ALT-DESC;FMTTYPE=text/html:NEA Big Read 2018 Selection Pretty Monsters by Kelly Link will be reviewed. In these nine stories\, blending humor\, the supernatural\, and teen angst\, bizarre and wonderful things occur. Get your free copy of Pretty Monsters at any Mendocino County Library Branch beginning October 2nd and join us for the Big Read!
LOCATION:Fort Bragg Library 499 E Laurel St Fort Bragg\, CA
UID:e.2883.10290
SEQUENCE:3
DTSTAMP:20260422T225415Z
URL:http://mendocinocoast.smartcms.site/events/details/adult-book-club-nea-big-read-selection-pretty-monsters-10290
END:VEVENT

END:VCALENDAR
