BEGIN:VCALENDAR
VERSION:2.0
PRODID:-//ChamberMaster//Event Calendar 2.0//EN
METHOD:PUBLISH
X-PUBLISHED-TTL:P3D
REFRESH-INTERVAL:P3D
CALSCALE:GREGORIAN
BEGIN:VEVENT
DTSTART:20180831T010000Z
DTEND:20180831T020000Z
X-MICROSOFT-CDO-ALLDAYEVENT:FALSE
SUMMARY:Adult Book Club
DESCRIPTION:At Adult Book Club we explore books of all kinds contemporary fiction\, special interests\, current and past affairs\, fun trends\, memoirs\, etc. This month's selection is The Underground Railroad by Colson Whitehead. Request a copy today and join us for the discussion.
X-ALT-DESC;FMTTYPE=text/html:At Adult Book Club we explore books of all kinds&mdash\;contemporary fiction\, special interests\, current and past affairs\, fun trends\, memoirs\, etc. This month&#39\;s selection is The Underground Railroad by Colson Whitehead. Request a copy today and join us for the discussion.
LOCATION:Fort Bragg Library 499 E Laurel St Fort Bragg
UID:e.2883.9146
SEQUENCE:3
DTSTAMP:20260423T022951Z
URL:http://mendocinocoast.smartcms.site/events/details/adult-book-club-9146
END:VEVENT

END:VCALENDAR
