BEGIN:VCALENDAR
VERSION:2.0
PRODID:-//ChamberMaster//Event Calendar 2.0//EN
METHOD:PUBLISH
X-PUBLISHED-TTL:P3D
REFRESH-INTERVAL:P3D
CALSCALE:GREGORIAN
BEGIN:VEVENT
DTSTART:20170908T200000Z
DTEND:20170908T230000Z
X-MICROSOFT-CDO-ALLDAYEVENT:FALSE
SUMMARY:A Pinot Noir Celebration
DESCRIPTION:Presented by Winesong and hosted by Little River Inn\, this illustrious event features Pinot Noir from renowned Anderson Valley and other award winning pinot regions\, plus tastes of Little River Inn's finest culinary offerings.
X-ALT-DESC;FMTTYPE=text/html:Presented by Winesong and hosted by Little River Inn\, this illustrious event features Pinot Noir from renowned Anderson Valley and other award winning pinot regions\, plus tastes of Little River Inn&rsquo\;s finest culinary offerings.
LOCATION:Little River Inn\, 7751 North Highway 1\, Little River\, CA 95456
UID:e.2883.4380
SEQUENCE:3
DTSTAMP:20260423T214600Z
URL:http://mendocinocoast.smartcms.site/events/details/a-pinot-noir-celebration-4380
END:VEVENT

END:VCALENDAR
