BEGIN:VCALENDAR
VERSION:2.0
PRODID:-//ChamberMaster//Event Calendar 2.0//EN
METHOD:PUBLISH
X-PUBLISHED-TTL:P3D
REFRESH-INTERVAL:P3D
CALSCALE:GREGORIAN
BEGIN:VEVENT
DTSTART:20190906T200000Z
DTEND:20190906T230000Z
X-MICROSOFT-CDO-ALLDAYEVENT:FALSE
SUMMARY:A Pinot Noir Celebration
DESCRIPTION:Over 35 outstanding Pinots and a taste of Little River Inn's culinary delights in an intimate setting at the Little River Inn overlooking the beautiful Pacific ocean. This is an opportunity to meet and mingle with the winemakers\, evaluate wines\, and learn how classic Pinot Noir improves with age.
X-ALT-DESC;FMTTYPE=text/html:Over 35 outstanding Pinots and a taste of Little River Inn&rsquo\;s culinary delights in an intimate setting at the Little River Inn overlooking the beautiful Pacific ocean. This is an opportunity to meet and mingle with the winemakers\, evaluate wines\, and learn how classic Pinot Noir improves with age.
LOCATION:The Little River Inn
UID:e.2883.11462
SEQUENCE:3
DTSTAMP:20260422T043132Z
URL:http://mendocinocoast.smartcms.site/events/details/a-pinot-noir-celebration-09-06-2019-11462
END:VEVENT

END:VCALENDAR
