BEGIN:VCALENDAR
VERSION:2.0
PRODID:-//ChamberMaster//Event Calendar 2.0//EN
METHOD:PUBLISH
X-PUBLISHED-TTL:P3D
REFRESH-INTERVAL:P3D
CALSCALE:GREGORIAN
BEGIN:VEVENT
DTSTART:20190621T000000Z
DTEND:20190621T020000Z
X-MICROSOFT-CDO-ALLDAYEVENT:FALSE
SUMMARY:A Night at the Opera
DESCRIPTION:A performance of great arias from opera. Free at the Stanford Inn. Come\, purchase a glass of wine and enjoy young professionals from across the country present their best audition arias.
X-ALT-DESC;FMTTYPE=text/html:A performance of great arias from opera. Free at the Stanford Inn. Come\, purchase a glass of wine and enjoy young professionals from across the country present their best audition arias.
LOCATION:Stanford Inn Mendocino\, CA
UID:e.2883.11684
SEQUENCE:3
DTSTAMP:20260422T094015Z
URL:http://mendocinocoast.smartcms.site/events/details/a-night-at-the-opera-11684
END:VEVENT

END:VCALENDAR
