BEGIN:VCALENDAR
VERSION:2.0
PRODID:-//ChamberMaster//Event Calendar 2.0//EN
METHOD:PUBLISH
X-PUBLISHED-TTL:P3D
REFRESH-INTERVAL:P3D
CALSCALE:GREGORIAN
BEGIN:VEVENT
DTSTART:20180818T190000Z
DTEND:20180819T020000Z
X-MICROSOFT-CDO-ALLDAYEVENT:FALSE
SUMMARY:A Day on the Westport Headlands
DESCRIPTION:2018 Annual Westport Volunteer Fire Department Fundraiser!\n\n\n\nBarrel roasted BBQ\, tri-tip\, chicken\, veggie meal available\, craft booths\, volleyball\, horseshoes\, kid's games\, jumpy house\, face painting\, beer & wine\, dancing and more!\n\n\n\nQuilt & basket raffles with many raffle prizes.
X-ALT-DESC;FMTTYPE=text/html:2018 Annual Westport Volunteer Fire Department Fundraiser!<br />\n<br />\nBarrel roasted BBQ\, tri-tip\, chicken\, veggie meal available\, craft booths\, volleyball\, horseshoes\, kid&#39\;s games\, jumpy house\, face painting\, beer &amp\; wine\, dancing and more!<br />\n<br />\nQuilt &amp\; basket raffles with many raffle prizes.
LOCATION:Westport Headlands
UID:e.2883.5584
SEQUENCE:3
DTSTAMP:20260423T022858Z
URL:http://mendocinocoast.smartcms.site/events/details/a-day-on-the-westport-headlands-5584
END:VEVENT

END:VCALENDAR
