BEGIN:VCALENDAR
VERSION:2.0
PRODID:-//ChamberMaster//Event Calendar 2.0//EN
METHOD:PUBLISH
X-PUBLISHED-TTL:P3D
REFRESH-INTERVAL:P3D
CALSCALE:GREGORIAN
BEGIN:VEVENT
DTSTART;VALUE=DATE:20170317
DTEND;VALUE=DATE:20170318
TRANSP:TRANSPARENT
X-MICROSOFT-CDO-ALLDAYEVENT:TRUE
SUMMARY:9th Annual Progressive Dinner
DESCRIPTION:Â 9th Annual Progressive DinnerÂ Tickets are on sale now!2017 Mendocino Progressive Dinner!Â Please join us for this wonderful event which benefits the Mendocino Headlands Park Improvement Project! Seating is limited and advance purchase is required.Â Saturday May 6\, 2017 Starting at 6pmÂ Menu: Appetizers by Margaret Fox\, at the Odd Fellows HallÂ First Course & Main Course at the Mendocino HotelÂ Dessert\, by Shaniâ€™s Sweet Creations &Sharon Robinson of Mendocakes\,Â For a look at the full menu\, visit:http://mendoparks.org/progressive-dinner/Â To purchase tickets\, visithttp://www.brownpapertickets.com/event/2881674Event Sponsored by: Harvest Market\, Mendocino Savings Bank
X-ALT-DESC;FMTTYPE=text/html:<p>Â </p><table border="0" cellspacing="0" cellpadding="0" width="585"><tbody><tr><td width="412" valign="top"><p><strong>9th Annual Progressive Dinner</strong></p></td></tr><tr><td width="173" valign="top"><p>Â </p></td><td valign="top"><p>Tickets are on sale now!</p><p>2017 Mendocino Progressive Dinner!</p><p>Â </p><p>Please join us for this wonderful event which benefits the Mendocino Headlands Park Improvement Project! Seating is limited and advance purchase is required.</p><p>Â </p><p>Saturday May 6\, 2017 Starting at 6pm</p><p>Â </p><p><em>Menu:</em><em> </em></p><p>Appetizers by Margaret Fox\, at the Odd Fellows Hall</p><p>Â </p><p>First Course &amp\; Main Course at the Mendocino Hotel</p><p>Â </p><p>Dessert\, by Shaniâ€™s Sweet Creations &amp\;</p><p>Sharon Robinson of Mendocakes\,</p><p>Â </p><p><em>For a look at the full menu\, visit:</em><a href="http://mendoparks.org/progressive-dinner/">http://mendoparks.org/progressive-dinner/</a></p><p>Â </p><p><em>To purchase tickets\, visit</em><a href="http://www.brownpapertickets.com/event/2881674">http://www.brownpapertickets.com/event/2881674</a></p></td></tr></tbody></table><p>Event Sponsored by: Harvest Market\, Mendocino Savings Bank</p>
LOCATION:Mendocino Village
UID:e.2883.1161
SEQUENCE:3
DTSTAMP:20260424T075850Z
URL:http://mendocinocoast.smartcms.site/events/details/9th-annual-progressive-dinner-03-17-2017-1161
END:VEVENT

END:VCALENDAR
