BEGIN:VCALENDAR
VERSION:2.0
PRODID:-//ChamberMaster//Event Calendar 2.0//EN
METHOD:PUBLISH
X-PUBLISHED-TTL:P3D
REFRESH-INTERVAL:P3D
CALSCALE:GREGORIAN
BEGIN:VEVENT
DTSTART:20161012T120000Z
DTEND:20161012T140000Z
X-MICROSOFT-CDO-ALLDAYEVENT:FALSE
SUMMARY:70th Birthday Celebration
DESCRIPTION:Gualala Arts is delighted to embrace this wonderful community tradition  by offering to provide this dinner free of charge to any person born in  1946. In addition to friends and family\, this celebration is also open  to any community guests that would like join in the festivities. Guests and additional family pay $30 in advance\, $40 day of event.
X-ALT-DESC;FMTTYPE=text/html:<p>Gualala Arts is delighted to embrace this wonderful community tradition  by offering to provide this dinner free of charge to any person born in  1946. In addition to friends and family\, this celebration is also open  to any community guests that would like join in the festivities. Guests and additional family pay $30 in advance\, $40 day of event.</p>
LOCATION:Gualala Arts Center
UID:e.2883.1034
SEQUENCE:3
DTSTAMP:20260424T160323Z
URL:http://mendocinocoast.smartcms.site/events/details/70th-birthday-celebration-10-12-2016-1034
END:VEVENT

END:VCALENDAR
