BEGIN:VCALENDAR
VERSION:2.0
PRODID:-//ChamberMaster//Event Calendar 2.0//EN
METHOD:PUBLISH
X-PUBLISHED-TTL:P3D
REFRESH-INTERVAL:P3D
CALSCALE:GREGORIAN
BEGIN:VEVENT
DTSTART:20191129T180000Z
DTEND:20191201T010000Z
X-MICROSOFT-CDO-ALLDAYEVENT:FALSE
SUMMARY:60th Annual Thanksgiving Arts & Crafts Fair
DESCRIPTION:In what has become a north coast tradition\, more than 30 juried artists and craftspeople exhibit original handmade artwork over Thanksgiving Weekend. The Mendocino Art Center's galleries and class studios are transformed into a two-day holiday marketplace\, providing residents and visitors a pleasant alternative to hectic\, stressful mall shopping while supporting local and regional artists. Featured will be a wide array of unique\, high quality artwork and gift items\, including handmade jewelry\, original paintings\, photography\, functional and decorative ceramics\, fiber art and clothing\, furniture\, wood accessories\, leather goods\, baskets\, handcrafted herbal skin care products and so much more. Warm yourself with a delicious assortment of festive food items and drinks. The Mendocino Art Center's Gallery Shop is also open during the Thanksgiving Arts & Crafts Fair and offers great gift ideas.
X-ALT-DESC;FMTTYPE=text/html:In what has become a north coast tradition\, more than 30 juried artists and craftspeople exhibit original handmade artwork over Thanksgiving Weekend. The Mendocino Art Center&rsquo\;s galleries and class studios are transformed into a two-day holiday marketplace\, providing residents and visitors a pleasant alternative to hectic\, stressful mall shopping while supporting local and regional artists. Featured will be a wide array of unique\, high quality artwork and gift items\, including handmade jewelry\, original paintings\, photography\, functional and decorative ceramics\, fiber art and clothing\, furniture\, wood accessories\, leather goods\, baskets\, handcrafted herbal skin care products and so much more. Warm yourself with a delicious assortment of festive food items and drinks. The Mendocino Art Center&#39\;s Gallery Shop is also open during the Thanksgiving Arts &amp\; Crafts Fair and offers great gift ideas.
LOCATION:Mendocino Art Center 45200 Little Lake Street Mendocino
UID:e.2883.11459
SEQUENCE:3
DTSTAMP:20260422T011530Z
URL:http://mendocinocoast.smartcms.site/events/details/60th-annual-thanksgiving-arts-crafts-fair-11459
END:VEVENT

END:VCALENDAR
