BEGIN:VCALENDAR
VERSION:2.0
PRODID:-//ChamberMaster//Event Calendar 2.0//EN
METHOD:PUBLISH
X-PUBLISHED-TTL:P3D
REFRESH-INTERVAL:P3D
CALSCALE:GREGORIAN
BEGIN:VEVENT
DTSTART:20190720T170000Z
DTEND:20190722T000000Z
X-MICROSOFT-CDO-ALLDAYEVENT:FALSE
SUMMARY:60th Annual Summer Arts & Crafts Fair
DESCRIPTION:Browse a wide variety of quality\, one-of-a-kind artwork at 40 artist booths situated outdoors among the Mendocino Art Center gardens. Wearable art lovers are in for a treat\, with an array of handmade jewelry\, as well clothing\, scarves\, bags and hats. Those looking for something for the home will find sculptural and functional ceramics\, paintings\, photography\, wood accessories\, glass works\, baskets\, furniture items\, and more. Also live local music and festive food and drinks.
X-ALT-DESC;FMTTYPE=text/html:Browse a wide variety of quality\, one-of-a-kind artwork at 40 artist booths situated outdoors among the Mendocino Art Center gardens. Wearable art lovers are in for a treat\, with an array of handmade jewelry\, as well clothing\, scarves\, bags and hats. Those looking for something for the home will find sculptural and functional ceramics\, paintings\, photography\, wood accessories\, glass works\, baskets\, furniture items\, and more. Also live local music and festive food and drinks.
LOCATION:Mendocino Art Center 45200 Little Lake Street Mendocino
UID:e.2883.11458
SEQUENCE:3
DTSTAMP:20260422T080109Z
URL:http://mendocinocoast.smartcms.site/events/details/60th-annual-summer-arts-crafts-fair-11458
END:VEVENT

END:VCALENDAR
