BEGIN:VCALENDAR
VERSION:2.0
PRODID:-//ChamberMaster//Event Calendar 2.0//EN
METHOD:PUBLISH
X-PUBLISHED-TTL:P3D
REFRESH-INTERVAL:P3D
CALSCALE:GREGORIAN
BEGIN:VEVENT
DTSTART:20160803T203000Z
DTEND:20160803T220000Z
X-MICROSOFT-CDO-ALLDAYEVENT:FALSE
SUMMARY:5th Annual Walk To Take Back Our Forests
DESCRIPTION:Â The Jere Melo Foundation will be holding their 5th Annual Walk to Take Back our Forests onÂ Saturday August 27th.Â  Walkers will gather at the Noyo Headlands Park on W Cypress atÂ 1:30pm and walk the Coastal Trail in memory of Jere Melo and his contribution to our community.Â  Everyone is welcome to join us as we remember Jere. Â Plenty of parking available.Â
X-ALT-DESC;FMTTYPE=text/html:<p>Â </p><blockquote><div dir="ltr">The Jere Melo Foundation will be holding their 5th Annual Walk to Take Back our Forests onÂ <span><span>Saturday August 27th</span></span>.Â  Walkers will gather at the Noyo Headlands Park on W Cypress atÂ <span><span>1:30pm</span></span> and walk the Coastal Trail in memory of Jere Melo and his contribution to our community.Â  Everyone is welcome to join us as we remember Jere. Â Plenty of parking available.</div></blockquote><p>Â </p>
LOCATION:Noyo Headlands Park Fort Bragg
UID:e.2883.991
SEQUENCE:3
DTSTAMP:20260424T212457Z
URL:http://mendocinocoast.smartcms.site/events/details/5th-annual-walk-to-take-back-our-forests-08-03-2016-991
END:VEVENT

END:VCALENDAR
