BEGIN:VCALENDAR
VERSION:2.0
PRODID:-//ChamberMaster//Event Calendar 2.0//EN
METHOD:PUBLISH
X-PUBLISHED-TTL:P3D
REFRESH-INTERVAL:P3D
CALSCALE:GREGORIAN
BEGIN:VEVENT
DTSTART:20160815T190000Z
DTEND:20160816T020000Z
X-MICROSOFT-CDO-ALLDAYEVENT:FALSE
SUMMARY:42nd Great Day in Elk
DESCRIPTION:42nd Annual Great Day in Elk! Saturday\, August 27th\, 2016-Noon Parade-Carnival-Food & Drink-Games-Music & DanceÂ @ Greenwood Community Center\, ElkÂ $100 grease pole - Kid's Crafts - Prizes Galore - Watermelon Eating Contest - Reggae Band - Clay oven baked Focaccia - Fresh Pressed Apple Cider - Fortunetelling - Sack Races - Belly Dancing - Cake Auction - Massage - Elk's Famous Margaritas - Fabulous Raffle & Sensational Silent AuctionÂ BBQ 4-7pm: Tri-tip and veggie optionÂ Elk is 5 miles south of Hwy. 128 on Hwy 1.Â For more info email meabloyd@gmail.com or go to elkweb.orgÂ All proceeds benefit the Greenwood Community CenterÂ No dogs please!
X-ALT-DESC;FMTTYPE=text/html:<p>42nd Annual Great Day in Elk! Saturday\, August 27th\, 2016</p><p>-Noon Parade</p><p>-Carnival</p><p>-Food &amp\; Drink</p><p>-Games</p><p>-Music &amp\; Dance</p><p>Â </p><p>@ Greenwood Community Center\, Elk</p><p>Â </p><p>$100 grease pole - Kid's Crafts - Prizes Galore - Watermelon Eating Contest - Reggae Band - Clay oven baked Focaccia - Fresh Pressed Apple Cider - Fortunetelling - Sack Races - Belly Dancing - Cake Auction - Massage - Elk's Famous Margaritas - Fabulous Raffle &amp\; Sensational Silent Auction</p><p>Â </p><p>BBQ 4-7pm: Tri-tip and veggie option</p><p>Â </p><p>Elk is 5 miles south of Hwy. 128 on Hwy 1.</p><p>Â </p><p>For more info email meabloyd@gmail.com or go to elkweb.org</p><p>Â </p><p>All proceeds benefit the Greenwood Community Center</p><p>Â </p><p>No dogs please!</p>
LOCATION:Greenwood Community Center Elk
UID:e.2883.999
SEQUENCE:3
DTSTAMP:20260424T194140Z
URL:http://mendocinocoast.smartcms.site/events/details/42nd-great-day-in-elk-08-15-2016-999
END:VEVENT

END:VCALENDAR
