BEGIN:VCALENDAR
VERSION:2.0
PRODID:-//ChamberMaster//Event Calendar 2.0//EN
METHOD:PUBLISH
X-PUBLISHED-TTL:P3D
REFRESH-INTERVAL:P3D
CALSCALE:GREGORIAN
BEGIN:VEVENT
DTSTART:20190825T210000Z
DTEND:20190825T230000Z
X-MICROSOFT-CDO-ALLDAYEVENT:FALSE
SUMMARY:4000 Miles
DESCRIPTION:by Amy Herzog\n\ndirected by Betty Abramson\n\nA young man takes refuge at his grandmother's Greenwich Village apartment after experiencing a traumatic loss. Over the course of a single month\, these unlikely roommates infuriate\, bewilder\, and ultimately reach each other. 4000 Miles pulls us in to watch how two outsiders find their way in today's world.
X-ALT-DESC;FMTTYPE=text/html:<p>by Amy Herzog</p>\n\n<p>directed by Betty Abramson</p>\n\n<p>A young man takes refuge at his grandmother&rsquo\;s Greenwich Village apartment after experiencing a traumatic loss. Over the course of a single month\, these unlikely roommates infuriate\, bewilder\, and ultimately reach each other. <em><strong>4000 Miles</strong></em> pulls us in to watch how two outsiders find their way in today&rsquo\;s world.</p>\n
LOCATION:45200 Little Lake\, Mendocino\, CA 95460
UID:e.2883.11206
SEQUENCE:3
DTSTAMP:20260422T062804Z
URL:http://mendocinocoast.smartcms.site/events/details/4000-miles-08-25-2019-11206
END:VEVENT

END:VCALENDAR
