BEGIN:VCALENDAR
VERSION:2.0
PRODID:-//ChamberMaster//Event Calendar 2.0//EN
METHOD:PUBLISH
X-PUBLISHED-TTL:P3D
REFRESH-INTERVAL:P3D
CALSCALE:GREGORIAN
BEGIN:VEVENT
DTSTART:20190421T030000Z
DTEND:20190421T050000Z
X-MICROSOFT-CDO-ALLDAYEVENT:FALSE
SUMMARY:4/20 Comedy Jam! North Coast Comedy Returns!
DESCRIPTION:Cinders Productions is excited to announce that North Coast Comedy returns on April 20th! Saturday\, April 20 Masonic Center   428 North Main Street\, Fort Bragg Doors open: 7 PM Show begins: 8 PM Advance $20 online: https://www.eventbrite.com/e/420-comedy-jam-north-coast-comedy-returns-tickets-58768652622 At Door $25 Bar provided by and will benefit the Noyo Radio Project KNYO Radio! More info: 707-367-2370 Fort Bragg will wait no longer for the return of the Bern!
X-ALT-DESC;FMTTYPE=text/html:Cinders Productions is excited to announce that North Coast Comedy returns on April 20th! Saturday\, April 20 Masonic Center &ndash\; 428 North Main Street\, Fort Bragg Doors open: 7 PM Show begins: 8 PM Advance $20 online: https://www.eventbrite.com/e/420-comedy-jam-north-coast-comedy-returns-tickets-58768652622 At Door $25 Bar provided by and will benefit the Noyo Radio Project KNYO Radio! More info: 707-367-2370 Fort Bragg will wait no longer for the return of the Bern!
LOCATION:Cinders Productions Masonic Center 428 North Main Street\, Fort Bragg
UID:e.2883.11372
SEQUENCE:3
DTSTAMP:20260422T125119Z
URL:http://mendocinocoast.smartcms.site/events/details/4-20-comedy-jam-north-coast-comedy-returns-11372
END:VEVENT

END:VCALENDAR
