BEGIN:VCALENDAR
VERSION:2.0
PRODID:-//ChamberMaster//Event Calendar 2.0//EN
METHOD:PUBLISH
X-PUBLISHED-TTL:P3D
REFRESH-INTERVAL:P3D
CALSCALE:GREGORIAN
BEGIN:VEVENT
DTSTART;VALUE=DATE:20180317
DTEND;VALUE=DATE:20180318
TRANSP:TRANSPARENT
X-MICROSOFT-CDO-ALLDAYEVENT:TRUE
SUMMARY:34th Annual Whale Run & Walk
DESCRIPTION:34th Annual Whale Run and Walk!\n\n \nDescription of race course:\n\nThe Annual Whale Run/ Walkstarts & finishes in the heart of Fort Bragg in the Skunk Train parking lot.  \n\n\n	\n	 It is an out & back race. \n	\n\n\n \n\nKIDDIES RACE:  Start 7:30am\n\n\n	\n	 Start in Skunk Train parking lot\n	\n	\n	 Ages: 4-10  1/2 mile run\n	\n\n\nAll participating kids receive ribbons.\n\n \n\nFUN WALKERS: Start 8:05am\n\n\n	\n	 Start in Skunk Train parking lot\n	\n	\n	 LEFT on W Pine Street\n	\n	\n	 RIGHT on Stewart Street\n	\n	\n	 LEFT on W Elm Street\n	\n	\n	 STRAIGHT on Noyo Headlands Coastal Trail to end\n	\n	\n	 Return same route to \n\n	Skunk Train parking lot\n	\n\n\n \n\nAll other events: Start 8:00am\n\n5K/10K RUNNERS\n\n5K COMPETITIVE WALKERS:\n\n\n	\n	 Start in Skunk Train parking lot\n	\n	\n	 LEFT on W Pine Street\n	\n	\n	 RIGHT on Stewart Street\n	\n	\n	 LEFT on W Elm Street\n	\n	\n	 RIGHT on Glass Beach Drive\n	\n	\n	 CROSS Pudding Creek Trestle\n	\n	\n	 Onto the Haul Road\n	\n	\n	 Race to 5K (10K) marker\n	\n	\n	 Return same route to \n\n	Skunk Train parking lot\n\n	EARLY REGISTRATION GUARANTEES \n\n	YOU A SHIRT\n\n	 \n\n	Sponsored by Soroptimist International of Fort Bragg. Proceeds benefit \n\n	local worthy causes.
X-ALT-DESC;FMTTYPE=text/html:34th Annual Whale Run and Walk!<br />\n&nbsp\;\n<p class="paragraph_style_10" style="color: rgb(123\, 12\, 0)\; font-family: Calibri-Bold\, Calibri\; font-stretch: normal\; font-variant-ligatures: normal\; font-variant-east-asian: normal\; font-variant-position: normal\; font-weight: 700\; line-height: 18px\; margin: 0px\; opacity: 1\; padding-bottom: 0px\; padding-top: 0px\;"><span class="style_6" style="font-size: 14px\; font-stretch: normal\; line-height: 20px\;">Description of race course:</span></p>\n\n<p class="paragraph_style_11" style="color: rgb(0\, 0\, 0)\; font-family: Calibri\; font-size: 11px\; font-stretch: normal\; font-variant-ligatures: normal\; font-variant-east-asian: normal\; font-variant-position: normal\; line-height: 16px\; margin: 0px\; opacity: 1\; padding-bottom: 0px\; padding-top: 0px\;"><span class="style_7" style="font-family: Calibri-Bold\, Calibri\; font-size: 12px\; font-stretch: normal\; font-weight: 700\; line-height: 17px\;">The Annual Whale Run/ </span><span class="style_7" style="font-family: Calibri-Bold\, Calibri\; font-size: 12px\; font-stretch: normal\; font-weight: 700\; line-height: 17px\;">Walk</span>starts&nbsp\;&amp\;&nbsp\;finishes in the heart of Fort Bragg in the Skunk Train parking lot.&nbsp\;&nbsp\;</p>\n\n<ol style="padding-right: 0px\; padding-left: 0px\; margin: 0px\; list-style-type: none\; list-style-image: none\; color: rgb(0\, 0\, 0)\; font-family: -webkit-standard\;">\n	<li class="full-width" style="line-height: 16px\; padding-left: 10px\; text-indent: -10px\;">\n	<p class="paragraph_style_12" style="font-family: Calibri\; font-size: 11px\; font-stretch: normal\; font-variant-ligatures: normal\; font-variant-east-asian: normal\; font-variant-position: normal\; letter-spacing: 0px\; line-height: 16px\; margin: 0px\; opacity: 1\; padding-bottom: 0px\; padding-top: 0px\;"><span class="Bullet" style="border: none\;">&bull\;</span>It is an out &amp\; back race.&nbsp\;</p>\n	</li>\n</ol>\n\n<p class="paragraph_style_13" style="color: rgb(0\, 0\, 0)\; font-family: Calibri\; font-size: 11px\; font-stretch: normal\; font-variant-ligatures: normal\; font-variant-east-asian: normal\; font-variant-position: normal\; line-height: 16px\; margin: 0px\; opacity: 1\; padding-bottom: 0px\; padding-top: 0px\;">&nbsp\;</p>\n\n<p class="paragraph_style_14" style="color: rgb(0\, 0\, 0)\; font-family: Calibri-Bold\, Calibri\; font-size: 12px\; font-stretch: normal\; font-variant-ligatures: normal\; font-variant-east-asian: normal\; font-variant-position: normal\; font-weight: 700\; line-height: 17px\; margin: 0px\; opacity: 1\; padding-bottom: 0px\; padding-top: 0px\;">KIDDIES RACE: &nbsp\;Start 7:30am</p>\n\n<ol style="padding-right: 0px\; padding-left: 0px\; margin: 0px\; list-style-type: none\; list-style-image: none\; color: rgb(0\, 0\, 0)\; font-family: -webkit-standard\;">\n	<li class="full-width" style="line-height: 16px\; padding-left: 7px\; text-indent: -7px\;">\n	<p class="paragraph_style_15" style="font-family: Calibri\; font-size: 11px\; font-stretch: normal\; font-variant-ligatures: normal\; font-variant-east-asian: normal\; font-variant-position: normal\; letter-spacing: 0px\; line-height: 16px\; margin: 0px\; opacity: 1\; padding-bottom: 0px\; padding-top: 0px\;"><span class="Bullet" style="border: none\;">&bull\;</span>Start in Skunk Train parking lot</p>\n	</li>\n	<li class="full-width" style="line-height: 16px\; padding-left: 7px\; text-indent: -7px\;">\n	<p class="paragraph_style_15" style="font-family: Calibri\; font-size: 11px\; font-stretch: normal\; font-variant-ligatures: normal\; font-variant-east-asian: normal\; font-variant-position: normal\; letter-spacing: 0px\; line-height: 16px\; margin: 0px\; opacity: 1\; padding-bottom: 0px\; padding-top: 0px\;"><span class="Bullet" style="border: none\;">&bull\;</span>Ages: 4-10&nbsp\; 1/2 mile run</p>\n	</li>\n</ol>\n\n<p class="paragraph_style_13" style="color: rgb(0\, 0\, 0)\; font-family: Calibri\; font-size: 11px\; font-stretch: normal\; font-variant-ligatures: normal\; font-variant-east-asian: normal\; font-variant-position: normal\; line-height: 16px\; margin: 0px\; opacity: 1\; padding-bottom: 0px\; padding-top: 0px\;">All participating kids receive ribbons.</p>\n\n<p class="paragraph_style_13" style="color: rgb(0\, 0\, 0)\; font-family: Calibri\; font-size: 11px\; font-stretch: normal\; font-variant-ligatures: normal\; font-variant-east-asian: normal\; font-variant-position: normal\; line-height: 16px\; margin: 0px\; opacity: 1\; padding-bottom: 0px\; padding-top: 0px\;">&nbsp\;</p>\n\n<p class="paragraph_style_14" style="color: rgb(0\, 0\, 0)\; font-family: Calibri-Bold\, Calibri\; font-size: 12px\; font-stretch: normal\; font-variant-ligatures: normal\; font-variant-east-asian: normal\; font-variant-position: normal\; font-weight: 700\; line-height: 17px\; margin: 0px\; opacity: 1\; padding-bottom: 0px\; padding-top: 0px\;">FUN WALKERS: Start 8:05am</p>\n\n<ol style="padding-right: 0px\; padding-left: 0px\; margin: 0px\; list-style-type: none\; list-style-image: none\; color: rgb(0\, 0\, 0)\; font-family: -webkit-standard\;">\n	<li class="full-width" style="line-height: 16px\; padding-left: 7px\; text-indent: -7px\;">\n	<p class="paragraph_style_15" style="font-family: Calibri\; font-size: 11px\; font-stretch: normal\; font-variant-ligatures: normal\; font-variant-east-asian: normal\; font-variant-position: normal\; letter-spacing: 0px\; line-height: 16px\; margin: 0px\; opacity: 1\; padding-bottom: 0px\; padding-top: 0px\;"><span class="Bullet" style="border: none\;">&bull\;</span>Start in Skunk Train parking lot</p>\n	</li>\n	<li class="full-width" style="line-height: 16px\; padding-left: 7px\; text-indent: -7px\;">\n	<p class="paragraph_style_15" style="font-family: Calibri\; font-size: 11px\; font-stretch: normal\; font-variant-ligatures: normal\; font-variant-east-asian: normal\; font-variant-position: normal\; letter-spacing: 0px\; line-height: 16px\; margin: 0px\; opacity: 1\; padding-bottom: 0px\; padding-top: 0px\;"><span class="Bullet" style="border: none\;">&bull\;</span>LEFT on W Pine Street</p>\n	</li>\n	<li class="full-width" style="line-height: 16px\; padding-left: 7px\; text-indent: -7px\;">\n	<p class="paragraph_style_15" style="font-family: Calibri\; font-size: 11px\; font-stretch: normal\; font-variant-ligatures: normal\; font-variant-east-asian: normal\; font-variant-position: normal\; letter-spacing: 0px\; line-height: 16px\; margin: 0px\; opacity: 1\; padding-bottom: 0px\; padding-top: 0px\;"><span class="Bullet" style="border: none\;">&bull\;</span>RIGHT on Stewart Street</p>\n	</li>\n	<li class="full-width" style="line-height: 16px\; padding-left: 7px\; text-indent: -7px\;">\n	<p class="paragraph_style_15" style="font-family: Calibri\; font-size: 11px\; font-stretch: normal\; font-variant-ligatures: normal\; font-variant-east-asian: normal\; font-variant-position: normal\; letter-spacing: 0px\; line-height: 16px\; margin: 0px\; opacity: 1\; padding-bottom: 0px\; padding-top: 0px\;"><span class="Bullet" style="border: none\;">&bull\;</span>LEFT on W Elm Street</p>\n	</li>\n	<li class="full-width" style="line-height: 16px\; padding-left: 7px\; text-indent: -7px\;">\n	<p class="paragraph_style_15" style="font-family: Calibri\; font-size: 11px\; font-stretch: normal\; font-variant-ligatures: normal\; font-variant-east-asian: normal\; font-variant-position: normal\; letter-spacing: 0px\; line-height: 16px\; margin: 0px\; opacity: 1\; padding-bottom: 0px\; padding-top: 0px\;"><span class="Bullet" style="border: none\;">&bull\;</span>STRAIGHT on Noyo Headlands Coastal Trail to end</p>\n	</li>\n	<li class="full-width" style="line-height: 16px\; padding-left: 7px\; text-indent: -7px\;">\n	<p class="paragraph_style_15" style="font-family: Calibri\; font-size: 11px\; font-stretch: normal\; font-variant-ligatures: normal\; font-variant-east-asian: normal\; font-variant-position: normal\; letter-spacing: 0px\; line-height: 16px\; margin: 0px\; opacity: 1\; padding-bottom: 0px\; padding-top: 0px\;"><span class="Bullet" style="border: none\;">&bull\;</span>Return same route to&nbsp\;<br />\n	Skunk Train parking lot</p>\n	</li>\n</ol>\n\n<p class="paragraph_style_13" style="color: rgb(0\, 0\, 0)\; font-family: Calibri\; font-size: 11px\; font-stretch: normal\; font-variant-ligatures: normal\; font-variant-east-asian: normal\; font-variant-position: normal\; line-height: 16px\; margin: 0px\; opacity: 1\; padding-bottom: 0px\; padding-top: 0px\;">&nbsp\;</p>\n\n<p class="paragraph_style_14" style="color: rgb(0\, 0\, 0)\; font-family: Calibri-Bold\, Calibri\; font-size: 12px\; font-stretch: normal\; font-variant-ligatures: normal\; font-variant-east-asian: normal\; font-variant-position: normal\; font-weight: 700\; line-height: 17px\; margin: 0px\; opacity: 1\; padding-bottom: 0px\; padding-top: 0px\;">All other events: Start 8:00am</p>\n\n<p class="paragraph_style_16" style="color: rgb(0\, 0\, 0)\; font-family: Calibri-Bold\, Calibri\; font-size: 12px\; font-stretch: normal\; font-variant-ligatures: normal\; font-variant-east-asian: normal\; font-variant-position: normal\; font-weight: 700\; line-height: 17px\; margin: 0px\; opacity: 1\; padding-bottom: 0px\; padding-top: 0px\;">5K/10K RUNNERS</p>\n\n<p class="paragraph_style_16" style="color: rgb(0\, 0\, 0)\; font-family: Calibri-Bold\, Calibri\; font-size: 12px\; font-stretch: normal\; font-variant-ligatures: normal\; font-variant-east-asian: normal\; font-variant-position: normal\; font-weight: 700\; line-height: 17px\; margin: 0px\; opacity: 1\; padding-bottom: 0px\; padding-top: 0px\;">5K COMPETITIVE WALKERS:</p>\n\n<ol style="padding-right: 0px\; padding-left: 0px\; margin: 0px\; list-style-type: none\; list-style-image: none\; color: rgb(0\, 0\, 0)\; font-family: -webkit-standard\;">\n	<li class="full-width" style="line-height: 16px\; padding-left: 7px\; text-indent: -7px\;">\n	<p class="paragraph_style_15" style="font-family: Calibri\; font-size: 11px\; font-stretch: normal\; font-variant-ligatures: normal\; font-variant-east-asian: normal\; font-variant-position: normal\; letter-spacing: 0px\; line-height: 16px\; margin: 0px\; opacity: 1\; padding-bottom: 0px\; padding-top: 0px\;"><span class="Bullet" style="border: none\;">&bull\;</span>Start in Skunk Train parking lot</p>\n	</li>\n	<li class="full-width" style="line-height: 16px\; padding-left: 7px\; text-indent: -7px\;">\n	<p class="paragraph_style_15" style="font-family: Calibri\; font-size: 11px\; font-stretch: normal\; font-variant-ligatures: normal\; font-variant-east-asian: normal\; font-variant-position: normal\; letter-spacing: 0px\; line-height: 16px\; margin: 0px\; opacity: 1\; padding-bottom: 0px\; padding-top: 0px\;"><span class="Bullet" style="border: none\;">&bull\;</span>LEFT on W Pine Street</p>\n	</li>\n	<li class="full-width" style="line-height: 16px\; padding-left: 7px\; text-indent: -7px\;">\n	<p class="paragraph_style_15" style="font-family: Calibri\; font-size: 11px\; font-stretch: normal\; font-variant-ligatures: normal\; font-variant-east-asian: normal\; font-variant-position: normal\; letter-spacing: 0px\; line-height: 16px\; margin: 0px\; opacity: 1\; padding-bottom: 0px\; padding-top: 0px\;"><span class="Bullet" style="border: none\;">&bull\;</span>RIGHT on Stewart Street</p>\n	</li>\n	<li class="full-width" style="line-height: 16px\; padding-left: 7px\; text-indent: -7px\;">\n	<p class="paragraph_style_15" style="font-family: Calibri\; font-size: 11px\; font-stretch: normal\; font-variant-ligatures: normal\; font-variant-east-asian: normal\; font-variant-position: normal\; letter-spacing: 0px\; line-height: 16px\; margin: 0px\; opacity: 1\; padding-bottom: 0px\; padding-top: 0px\;"><span class="Bullet" style="border: none\;">&bull\;</span>LEFT on W Elm Street</p>\n	</li>\n	<li class="full-width" style="line-height: 16px\; padding-left: 7px\; text-indent: -7px\;">\n	<p class="paragraph_style_15" style="font-family: Calibri\; font-size: 11px\; font-stretch: normal\; font-variant-ligatures: normal\; font-variant-east-asian: normal\; font-variant-position: normal\; letter-spacing: 0px\; line-height: 16px\; margin: 0px\; opacity: 1\; padding-bottom: 0px\; padding-top: 0px\;"><span class="Bullet" style="border: none\;">&bull\;</span>RIGHT on Glass Beach Drive</p>\n	</li>\n	<li class="full-width" style="line-height: 16px\; padding-left: 7px\; text-indent: -7px\;">\n	<p class="paragraph_style_15" style="font-family: Calibri\; font-size: 11px\; font-stretch: normal\; font-variant-ligatures: normal\; font-variant-east-asian: normal\; font-variant-position: normal\; letter-spacing: 0px\; line-height: 16px\; margin: 0px\; opacity: 1\; padding-bottom: 0px\; padding-top: 0px\;"><span class="Bullet" style="border: none\;">&bull\;</span>CROSS Pudding Creek Trestle</p>\n	</li>\n	<li class="full-width" style="line-height: 16px\; padding-left: 7px\; text-indent: -7px\;">\n	<p class="paragraph_style_15" style="font-family: Calibri\; font-size: 11px\; font-stretch: normal\; font-variant-ligatures: normal\; font-variant-east-asian: normal\; font-variant-position: normal\; letter-spacing: 0px\; line-height: 16px\; margin: 0px\; opacity: 1\; padding-bottom: 0px\; padding-top: 0px\;"><span class="Bullet" style="border: none\;">&bull\;</span>Onto the Haul Road</p>\n	</li>\n	<li class="full-width" style="line-height: 16px\; padding-left: 7px\; text-indent: -7px\;">\n	<p class="paragraph_style_15" style="font-family: Calibri\; font-size: 11px\; font-stretch: normal\; font-variant-ligatures: normal\; font-variant-east-asian: normal\; font-variant-position: normal\; letter-spacing: 0px\; line-height: 16px\; margin: 0px\; opacity: 1\; padding-bottom: 0px\; padding-top: 0px\;"><span class="Bullet" style="border: none\;">&bull\;</span>Race to 5K (10K) marker</p>\n	</li>\n	<li class="full-width" style="line-height: 16px\; padding-left: 7px\; text-indent: -7px\;">\n	<p class="paragraph_style_15" style="font-family: Calibri\; font-size: 11px\; font-stretch: normal\; font-variant-ligatures: normal\; font-variant-east-asian: normal\; font-variant-position: normal\; letter-spacing: 0px\; line-height: 16px\; margin: 0px\; opacity: 1\; padding-bottom: 0px\; padding-top: 0px\;"><span class="Bullet" style="border: none\;">&bull\;</span>Return same route to&nbsp\;<br />\n	Skunk Train parking lot</p>\n\n	<p class="paragraph_style_17" style="color: rgb(0\, 0\, 0)\; font-family: Calibri-Bold\, Calibri\; font-size: 10px\; font-stretch: normal\; font-variant-ligatures: normal\; font-variant-east-asian: normal\; font-variant-position: normal\; font-weight: 700\; line-height: 13px\; margin: 0px\; opacity: 1\; padding-bottom: 0px\; padding-top: 0px\; text-align: center\;">EARLY REGISTRATION GUARANTEES&nbsp\;</p>\n\n	<p class="paragraph_style_17" style="color: rgb(0\, 0\, 0)\; font-family: Calibri-Bold\, Calibri\; font-size: 10px\; font-stretch: normal\; font-variant-ligatures: normal\; font-variant-east-asian: normal\; font-variant-position: normal\; font-weight: 700\; line-height: 13px\; margin: 0px\; opacity: 1\; padding-bottom: 0px\; padding-top: 0px\; text-align: center\;">YOU A SHIRT</p>\n\n	<p class="paragraph_style_18" style="color: rgb(0\, 0\, 0)\; font-family: Calibri\; font-size: 12px\; font-stretch: normal\; font-variant-ligatures: normal\; font-variant-east-asian: normal\; font-variant-position: normal\; line-height: 14px\; margin: 0px\; opacity: 1\; padding-bottom: 0px\; padding-top: 0px\; text-align: center\;">&nbsp\;</p>\n\n	<p class="paragraph_style_18" style="color: rgb(0\, 0\, 0)\; font-family: Calibri\; font-size: 12px\; font-stretch: normal\; font-variant-ligatures: normal\; font-variant-east-asian: normal\; font-variant-position: normal\; line-height: 14px\; margin: 0px\; opacity: 1\; padding-bottom: 0px\; padding-top: 0px\; text-align: center\;">Sponsored by Soroptimist International of Fort Bragg. Proceeds benefit&nbsp\;</p>\n\n	<p class="paragraph_style_18" style="color: rgb(0\, 0\, 0)\; font-family: Calibri\; font-size: 12px\; font-stretch: normal\; font-variant-ligatures: normal\; font-variant-east-asian: normal\; font-variant-position: normal\; line-height: 14px\; margin: 0px\; opacity: 1\; padding-bottom: 0px\; padding-top: 0px\; text-align: center\;">local worthy causes.&nbsp\;</p>\n\n	<div>&nbsp\;</div>\n	</li>\n</ol>\n
LOCATION:Skunk Train parking lot
UID:e.2883.5333
SEQUENCE:3
DTSTAMP:20260423T105245Z
URL:http://mendocinocoast.smartcms.site/events/details/34th-annual-whale-run-walk-5333
END:VEVENT

END:VCALENDAR
