BEGIN:VCALENDAR
VERSION:2.0
PRODID:-//ChamberMaster//Event Calendar 2.0//EN
METHOD:PUBLISH
X-PUBLISHED-TTL:P3D
REFRESH-INTERVAL:P3D
CALSCALE:GREGORIAN
BEGIN:VEVENT
DTSTART:20180325T000000Z
DTEND:20180325T030000Z
X-MICROSOFT-CDO-ALLDAYEVENT:FALSE
SUMMARY:3/24 Spaghetti Dinner
DESCRIPTION:SPAGHETTI DINNER Fundraiser -FBHS Class of 2018 Safe & Sober Grad Night
X-ALT-DESC;FMTTYPE=text/html:SPAGHETTI DINNER Fundraiser -FBHS Class of 2018 Safe &amp\; Sober Grad Night
LOCATION:Fort Bragg Fire Station 141 N. Main Street\, Fort Bragg
UID:e.2883.5609
SEQUENCE:3
DTSTAMP:20260423T105129Z
URL:http://mendocinocoast.smartcms.site/events/details/3-24-spaghetti-dinner-5609
END:VEVENT

END:VCALENDAR
