BEGIN:VCALENDAR
VERSION:2.0
PRODID:-//ChamberMaster//Event Calendar 2.0//EN
METHOD:PUBLISH
X-PUBLISHED-TTL:P3D
REFRESH-INTERVAL:P3D
CALSCALE:GREGORIAN
BEGIN:VEVENT
DTSTART:20170127T180000Z
DTEND:20170128T010000Z
X-MICROSOFT-CDO-ALLDAYEVENT:FALSE
SUMMARY:25th Anniversary Mendocino Coast Garden Tour
DESCRIPTION:Enjoy a behind-the-scenes view of a diverse selection of some of the Mendocino Coast's most magnificent gardens on this self-guided tour. On Friday\, May 5\, also enjoy a special evening reception with fine wine\, hors d'oeuvres and live music\, at a Mendocino Coast home. And\, on Garden Tour day\, there will be a Garden Shop & Plant Sale at the Mendocino Art Center\, and a benefit lunch at the Stanford Innâ€™s Ravens Restaurant with a choice of three gourmet vegan entrees.more information
X-ALT-DESC;FMTTYPE=text/html:<p>Enjoy a behind-the-scenes view of a diverse selection of some of the Mendocino Coast's most magnificent gardens on this self-guided tour. On Friday\, May 5\, also enjoy a special evening reception with fine wine\, hors d'oeuvres and live music\, at a Mendocino Coast home. And\, on Garden Tour day\, there will be a Garden Shop &amp\; Plant Sale at the Mendocino Art Center\, and a benefit lunch at the Stanford Innâ€™s Ravens Restaurant with a choice of three gourmet vegan entrees.</p><p><a href="http://www.MendocinoArtCenter.org/Garden.html"><strong>more information</strong></a></p>
LOCATION:Mendocino Art Center
UID:e.2883.1102
SEQUENCE:3
DTSTAMP:20260424T110208Z
URL:http://mendocinocoast.smartcms.site/events/details/25th-anniversary-mendocino-coast-garden-tour-01-27-2017-1102
END:VEVENT

END:VCALENDAR
