BEGIN:VCALENDAR
VERSION:2.0
PRODID:-//ChamberMaster//Event Calendar 2.0//EN
METHOD:PUBLISH
X-PUBLISHED-TTL:P3D
REFRESH-INTERVAL:P3D
CALSCALE:GREGORIAN
BEGIN:VEVENT
DTSTART:20200627T170000Z
DTEND:20200628T230000Z
X-MICROSOFT-CDO-ALLDAYEVENT:FALSE
SUMMARY:24th Annual Fort Bragg Quilt Show
DESCRIPTION:This show is not to be missed! Come visit "20-20 Visions" featuring over 150 quilts. Raffle tickets for our opportunity quilts are on sale NOW! $5 each or 3 for $10. Contact Linda at 707-937-1891 or info@oceanwavequilters.com for more information. Featured Quilt Artist is Kathy McCormick.
X-ALT-DESC;FMTTYPE=text/html:This show is not to be missed! Come visit &quot\;20-20 Visions&quot\; featuring over 150 quilts. Raffle tickets for our opportunity quilts are on sale NOW! $5 each or 3 for $10. Contact Linda at 707-937-1891 or info@oceanwavequilters.com for more information. Featured Quilt Artist is Kathy McCormick.
LOCATION:Dana Gray Elementary School 1197 Chestnut Street Fort Bragg\, CA
UID:e.2883.12627
SEQUENCE:3
DTSTAMP:20260421T141128Z
URL:http://mendocinocoast.smartcms.site/events/details/24th-annual-fort-bragg-quilt-show-12627
END:VEVENT

END:VCALENDAR
