BEGIN:VCALENDAR
VERSION:2.0
PRODID:-//ChamberMaster//Event Calendar 2.0//EN
METHOD:PUBLISH
X-PUBLISHED-TTL:P3D
REFRESH-INTERVAL:P3D
CALSCALE:GREGORIAN
BEGIN:VEVENT
DTSTART:20180505T000000Z
DTEND:20180505T030000Z
X-MICROSOFT-CDO-ALLDAYEVENT:FALSE
SUMMARY:23rd Annual May Show
DESCRIPTION:Art Explorers presents the 23rd annual May Show\, a collection of exciting new work from our 29 artists ceramic creations\, paintings and linoleum prints. Opening First Friday\, May 4th from 5 to 8 p.m. at Town Hall\, 363 N. Main Street\, in Fort Bragg and May 5th from 11 a.m. to 4 p.m. \n\nwww.artexplorers.org
X-ALT-DESC;FMTTYPE=text/html:<blockquote style="font-family: Helvetica\; font-size: 14px\; font-style: normal\; text-size-adjust: auto\;" type="cite">\n<div>\n<div style="word-wrap: break-word\; -webkit-nbsp-mode: space\; -webkit-line-break: after-white-space\;">\n<div>Art Explorers presents the 23rd annual May Show\, a collection of exciting new work from our 29 artists&mdash\;ceramic creations\, paintings and linoleum prints. Opening First Friday\, May 4th from 5 to 8 p.m. at Town Hall\, 363 N. Main Street\, in Fort Bragg and May 5th from 11 a.m. to 4 p.m.&nbsp\;</div>\n\n<div><a href="http://www.artexplorers.org/">www.artexplorers.org</a></div>\n</div>\n</div>\n</blockquote>\n
LOCATION:Town Hall\, Fort Bragg\, CA
UID:e.2883.8111
SEQUENCE:3
DTSTAMP:20260423T073308Z
URL:http://mendocinocoast.smartcms.site/events/details/23rd-annual-may-show-8111
END:VEVENT

END:VCALENDAR
