BEGIN:VCALENDAR
VERSION:2.0
PRODID:-//ChamberMaster//Event Calendar 2.0//EN
METHOD:PUBLISH
X-PUBLISHED-TTL:P3D
REFRESH-INTERVAL:P3D
CALSCALE:GREGORIAN
BEGIN:VEVENT
DTSTART;VALUE=DATE:20180623
DTEND;VALUE=DATE:20180625
TRANSP:TRANSPARENT
X-MICROSOFT-CDO-ALLDAYEVENT:TRUE
SUMMARY:22nd Annual Fort Bragg Quilt Show
DESCRIPTION:With a theme this year of "On the Farm"\, the 22nd annual Fort Bragg Quilt Show being held on Saturday and Sunday\, June 23-24\, promises to be the best yet! More than 150 beautiful quilts will be on display along with demonstrations of quilting and fabric art techniques\, opportunities to win raffle prizes\, vendors\, and more. Admission is just $5\, good for both days. Proceeds from the show benefit the Soroptimist International of Noyo Sunrise's scholarship fund for women in our community as well as the community projects of the Ocean Wave Quilters.
X-ALT-DESC;FMTTYPE=text/html:<span style="color: rgb(0\, 0\, 0)\; font-family: &quot\;Helvetica Neue&quot\;\, Helvetica\, Arial\, &quot\;Lucida Grande&quot\;\, sans-serif\; font-size: 16px\;">With a theme this year of &quot\;On the Farm&quot\;\, the 22nd annual Fort Bragg Quilt Show being held on Saturday and Sunday\, June 23-24\, promises to be the best yet! More than 150 beautiful quilts will be on display along with demonstrations of quilting and fabric art techniques\, opportunities to win raffle prizes\, vendors\, and more. Admission is just $5\, good for both days. Proceeds from the show benefit the Soroptimist International of Noyo Sunrise&#39\;s scholarship fund for women in our community as well as the community projects of the Ocean Wave Quilters.</span>
LOCATION:Dana Gray Elementary School 1197 Chestnut St. Fort Bragg\, CA 95437
UID:e.2883.5533
SEQUENCE:3
DTSTAMP:20260423T055945Z
URL:http://mendocinocoast.smartcms.site/events/details/22nd-annual-fort-bragg-quilt-show-5533
END:VEVENT

END:VCALENDAR
