BEGIN:VCALENDAR
VERSION:2.0
PRODID:-//ChamberMaster//Event Calendar 2.0//EN
METHOD:PUBLISH
X-PUBLISHED-TTL:P3D
REFRESH-INTERVAL:P3D
CALSCALE:GREGORIAN
BEGIN:VEVENT
DTSTART:20170624T170000Z
DTEND:20170625T230000Z
X-MICROSOFT-CDO-ALLDAYEVENT:FALSE
SUMMARY:21st Annual Fort Bragg Quilt Show
DESCRIPTION:With a theme this year of "Color Me Happy"\, the 21st annual Fort Bragg Quilt Show \n\nbeing held on Saturday and Sunday\, June 24-25\, promises to be the best yet! More than 130 beautiful quilts will \n\nbe on display along with demonstrations of quilting and fabric art techniques\, opportunities to win raffle prizes\, \n\nvendors\, and more. Admission is just $5\, good for both days. Proceeds from the show benefit the Soroptimist \n\nInternational of Noyo Sunrise's scholarship fund for women in our community as well as the community projects \n\nof the Ocean Wave Quilters.
X-ALT-DESC;FMTTYPE=text/html:<p style="margin: 0px\; border: 0px none\; padding: 0px\; font-family: Verdana\, Arial\; font-size: 11px\;"><span style="margin: 0px\; white-space: pre\;">With a theme this year of &quot\;Color Me Happy&quot\;\, the 21st annual Fort Bragg Quilt Show </span></p>\n\n<p style="margin: 0px\; border: 0px none\; padding: 0px\; font-family: Verdana\, Arial\; font-size: 11px\;"><span style="margin: 0px\; white-space: pre\;">being held on Saturday and Sunday\, June 24-25\, promises to be the best yet! More than 130 beautiful quilts will </span></p>\n\n<p style="margin: 0px\; border: 0px none\; padding: 0px\; font-family: Verdana\, Arial\; font-size: 11px\;"><span style="margin: 0px\; white-space: pre\;">be on display along with demonstrations of quilting and fabric art techniques\, opportunities to win raffle prizes\, </span></p>\n\n<p style="margin: 0px\; border: 0px none\; padding: 0px\; font-family: Verdana\, Arial\; font-size: 11px\;"><span style="margin: 0px\; white-space: pre\;">vendors\, and more. Admission is just $5\, good for both days. Proceeds from the show benefit the Soroptimist </span></p>\n\n<p style="margin: 0px\; border: 0px none\; padding: 0px\; font-family: Verdana\, Arial\; font-size: 11px\;"><span style="margin: 0px\; white-space: pre\;">International of Noyo Sunrise&#39\;s scholarship fund for women in our community as well as the community projects </span></p>\n\n<p style="margin: 0px\; border: 0px none\; padding: 0px\; font-family: Verdana\, Arial\; font-size: 11px\;"><span style="margin: 0px\; white-space: pre\;">of the Ocean Wave Quilters. </span></p>\n
LOCATION:Dana Gray Elementary School
UID:e.2883.1260
SEQUENCE:3
DTSTAMP:20260424T024628Z
URL:http://mendocinocoast.smartcms.site/events/details/21st-annual-fort-bragg-quilt-show-1260
END:VEVENT

END:VCALENDAR
