BEGIN:VCALENDAR
VERSION:2.0
PRODID:-//ChamberMaster//Event Calendar 2.0//EN
METHOD:PUBLISH
X-PUBLISHED-TTL:P3D
REFRESH-INTERVAL:P3D
CALSCALE:GREGORIAN
BEGIN:VEVENT
DTSTART:20170112T180000Z
DTEND:20170113T000000Z
X-MICROSOFT-CDO-ALLDAYEVENT:FALSE
SUMMARY:21st Annual Fort Bragg Quilt Show
DESCRIPTION:With a theme this year of "Color Me Happy"\, the 21st annual Fort Bragg Quilt Show being held on Saturday and Sunday\, June 24-25\, promises to be the best yet! More than 130 beautiful quilts will be on display along with demonstrations of quilting and fabric art techniques\, opportunities to win raffle prizes\, vendors\, and more. Admission is just $5\, good for both days. Proceeds from the show benefit the Soroptimist International of Noyo Sunrise's scholarship fund for women in our community as well as the community projects of the Ocean Wave Quilters.  Â Saturday\, June 24th 2017 from 10am-5pm and Sunday\, June 25th from 10am-4pm. at Dana Gray Elementary School.
X-ALT-DESC;FMTTYPE=text/html:<p><span style="white-space: pre\;"><span>With a theme this year of "Color Me Happy"\, the 21st annual Fort Bragg Quilt Show </span></span></p><p><span style="white-space: pre\;"><span>being held on Saturday and Sunday\, June 24-25\, promises to be the best yet! More than 130 beautiful quilts will </span></span></p><p><span style="white-space: pre\;"><span>be on display along with demonstrations of quilting and fabric art techniques\, opportunities to win raffle prizes\, </span></span></p><p><span style="white-space: pre\;"><span>vendors\, and more. Admission is just $5\, good for both days. Proceeds from the show benefit the Soroptimist </span></span></p><p><span style="white-space: pre\;"><span>International of Noyo Sunrise's scholarship fund for women in our community as well as the community projects </span></span></p><p><span style="white-space: pre\;"><span>of the Ocean Wave Quilters. </span> </span></p><p>Â </p><p><span style="white-space: pre\;">S</span>aturday\, June 24th 2017 from 10am-5pm and Sunday\, June 25th from 10am-4pm. at Dana Gray Elementary School.</p>
LOCATION:Dana Gray Elementary School Fort Bragg
UID:e.2883.1085
SEQUENCE:3
DTSTAMP:20260424T110144Z
URL:http://mendocinocoast.smartcms.site/events/details/21st-annual-fort-bragg-quilt-show-01-12-2017-1085
END:VEVENT

END:VCALENDAR
