BEGIN:VCALENDAR
VERSION:2.0
PRODID:-//ChamberMaster//Event Calendar 2.0//EN
METHOD:PUBLISH
X-PUBLISHED-TTL:P3D
REFRESH-INTERVAL:P3D
CALSCALE:GREGORIAN
BEGIN:VEVENT
DTSTART:20190817T003000Z
DTEND:20190819T230000Z
X-MICROSOFT-CDO-ALLDAYEVENT:FALSE
SUMMARY:2019 Seaweed Symposium
DESCRIPTION:This community-created celebration of our local seaweeds promises to be a full weekend of discovery\, exploration\, and engagement with the wondrous world of kelp. We want this experience to be accessible to all\, so most of the events are free to attend\, though a few do require pre-registration and a payment. Please see our website for more information. We also will be accepting donations throughout the weekend to support our "Help the Kelp" program\, which is working to restore bull kelp in our local ocean ecosystem.
X-ALT-DESC;FMTTYPE=text/html:This community-created celebration of our local seaweeds promises to be a full weekend of discovery\, exploration\, and engagement with the wondrous world of kelp. We want this experience to be accessible to all\, so most of the events are free to attend\, though a few do require pre-registration and a payment. Please see our website for more information. We also will be accepting donations throughout the weekend to support our &ldquo\;Help the Kelp&rdquo\; program\, which is working to restore bull kelp in our local ocean ecosystem.
LOCATION:Downtown Noyo Center for Marine Science
UID:e.2883.11905
SEQUENCE:3
DTSTAMP:20260422T062752Z
URL:http://mendocinocoast.smartcms.site/events/details/2019-seaweed-symposium-11905
END:VEVENT

END:VCALENDAR
