BEGIN:VCALENDAR
VERSION:2.0
PRODID:-//ChamberMaster//Event Calendar 2.0//EN
METHOD:PUBLISH
X-PUBLISHED-TTL:P3D
REFRESH-INTERVAL:P3D
CALSCALE:GREGORIAN
BEGIN:VEVENT
DTSTART:20190628T010000Z
DTEND:20190628T030000Z
X-MICROSOFT-CDO-ALLDAYEVENT:FALSE
SUMMARY:2019 Annual Chamber Awards Dinner
DESCRIPTION:The Annual Chamber Awards Dinner is coming up on \n\nJune 27\, 2019 at 6:00 pm. \n\n \n\nWe'll have a lovely time at The Ledford House in Albion\, honoring businesses and people who have made a difference in our community.  \n\n\n\nWe are still accepting nominations!  Nominations can be submitted online\, or by printable forms:  \n\nSustainability Award ~ All other Awards\n\nDeadline is Friday\, June 21st.\n\n\n\n$50 per person or $350 for a table of 8. Limited seating\, register now! Pay online here by credit card. Checks also accepted.  Call 961-6300 with any questions.
X-ALT-DESC;FMTTYPE=text/html:<div style="caret-color: rgb(17\, 31\, 51)\; color: rgb(17\, 31\, 51)\; font-family: Arial\, Verdana\, Helvetica\, sans-serif\; font-size: 14px\; text-align: center\;"><span style="font-size:14px\;"><span style="font-family:verdana\;">The Annual Chamber Awards Dinner is coming up on&nbsp\;</span></span></div>\n\n<div style="caret-color: rgb(17\, 31\, 51)\; color: rgb(17\, 31\, 51)\; font-family: Arial\, Verdana\, Helvetica\, sans-serif\; font-size: 14px\; text-align: center\;"><span style="font-size:14px\;"><span style="font-family:verdana\;">June 27\, 2019 at 6:00 pm.&nbsp\;</span></span></div>\n\n<div style="caret-color: rgb(17\, 31\, 51)\; color: rgb(17\, 31\, 51)\; font-family: Arial\, Verdana\, Helvetica\, sans-serif\; font-size: 14px\; text-align: center\;">&nbsp\;</div>\n\n<div style="caret-color: rgb(17\, 31\, 51)\; color: rgb(17\, 31\, 51)\; font-family: Arial\, Verdana\, Helvetica\, sans-serif\; font-size: 14px\; text-align: center\;"><span style="font-size:14px\;"><span style="font-family:verdana\;">We&#39\;ll have a lovely time at The Ledford House in Albion\, honoring businesses and people who have made a difference in our community. &nbsp\;<br />\n<br />\nWe are still accepting nominations! &nbsp\;Nominations can be submitted&nbsp\;<a href="http://survey.constantcontact.com/survey/a07egd3un7wjw87zcwv/a00qjw8fe6y2/questions" target="_blank">online</a>\, or by printable forms: &nbsp\;<br />\n<a href="https://files.constantcontact.com/6ba85264101/4c1f6105-a617-4f6d-9729-e956f4864f54.pdf" target="_blank">Sustainability Award</a>&nbsp\;~ <a href="https://files.constantcontact.com/6ba85264101/d04815dc-8504-4349-aaa4-419d49ced5b0.pdf" target="_blank">All other Awards</a><br />\nDeadline is Friday\, June 21st.<br />\n<br />\n<span style="caret-color: rgb(0\, 0\, 0)\; box-sizing: content-box\; bottom: auto\; clear: none\; content: normal\; direction: inherit\; empty-cells: show\; font-stretch: inherit\; left: auto\; line-height: inherit\; margin: 0px\; max-height: none\; max-width: none\; opacity: 1\; outline-offset: 0px\; overflow: visible\; padding: 0px\; position: static\; resize: none\; right: auto\; table-layout: auto\; text-overflow: clip\; top: auto\; vertical-align: baseline\; visibility: inherit\; word-break: inherit\; word-wrap: inherit\; z-index: auto\; background-image: none\; border: none\; border-collapse: separate\; border-image-source: none\; border-image-slice: 100% 1 0\; border-image-repeat: stretch\; border-top-left-radius: 0px\; border-top-right-radius: 0px\; border-bottom-right-radius: 0px\; border-bottom-left-radius: 0px\; height: auto\; width: auto\; box-shadow: none\;">$50 per person or $350 for a table of 8. Limited seating\, register now! Pay online here by credit card. Checks also accepted. &nbsp\;</span><span style="caret-color: rgb(0\, 0\, 0)\; box-sizing: content-box\; bottom: auto\; clear: none\; content: normal\; direction: inherit\; empty-cells: show\; font-stretch: inherit\; left: auto\; line-height: inherit\; margin: 0px\; max-height: none\; max-width: none\; opacity: 1\; outline-offset: 0px\; overflow: visible\; padding: 0px\; position: static\; resize: none\; right: auto\; table-layout: auto\; text-overflow: clip\; top: auto\; vertical-align: baseline\; visibility: inherit\; word-break: inherit\; word-wrap: inherit\; z-index: auto\; background-image: none\; border: none\; border-collapse: separate\; border-image-source: none\; border-image-slice: 100% 1 0\; border-image-repeat: stretch\; border-top-left-radius: 0px\; border-top-right-radius: 0px\; border-bottom-right-radius: 0px\; border-bottom-left-radius: 0px\; height: auto\; width: auto\; box-shadow: none\;">Call 961-6300 with any questions.</span></span></span></div>\n
LOCATION:The Ledford House 3000 North Highway One Albion CA 95410
UID:e.2883.11700
SEQUENCE:3
DTSTAMP:20260422T094021Z
URL:http://mendocinocoast.smartcms.site/events/details/2019-annual-chamber-awards-dinner-11700
END:VEVENT

END:VCALENDAR
