BEGIN:VCALENDAR
VERSION:2.0
PRODID:-//ChamberMaster//Event Calendar 2.0//EN
METHOD:PUBLISH
X-PUBLISHED-TTL:P3D
REFRESH-INTERVAL:P3D
CALSCALE:GREGORIAN
BEGIN:VEVENT
DTSTART;VALUE=DATE:20160511
DTEND;VALUE=DATE:20160512
TRANSP:TRANSPARENT
X-MICROSOFT-CDO-ALLDAYEVENT:TRUE
SUMMARY:2016 Fort Bragg Quilt Show
DESCRIPTION:2016 Fort Bragg Quilt Show\, theme 'Winding Roads' to the Calendar - sponsored by Soroptimist International Noyo Sunrise and Ocean Wave Quilters. Will be overÂ 100 stunning quilts of all sizes and styles.
X-ALT-DESC;FMTTYPE=text/html:<p><span>2016 Fort Bragg Quilt Show\, theme 'Winding Roads' to the Calendar - sponsored by Soroptimist International Noyo Sunrise and Ocean Wave Quilters. Will be overÂ <span>100 stunning quilts of all sizes and styles. </span></span></p>
LOCATION:Dana Gray Elementary 1197 Chestnut St Fort Bragg
UID:e.2883.924
SEQUENCE:3
DTSTAMP:20260425T003755Z
URL:http://mendocinocoast.smartcms.site/events/details/2016-fort-bragg-quilt-show-05-11-2016-924
END:VEVENT

END:VCALENDAR
