BEGIN:VCALENDAR
VERSION:2.0
PRODID:-//ChamberMaster//Event Calendar 2.0//EN
METHOD:PUBLISH
X-PUBLISHED-TTL:P3D
REFRESH-INTERVAL:P3D
CALSCALE:GREGORIAN
BEGIN:VEVENT
DTSTART:20171124T180000Z
DTEND:20171126T020000Z
X-MICROSOFT-CDO-ALLDAYEVENT:FALSE
SUMMARY:2 Day Celebration
DESCRIPTION:2 Days of Celebration at Interior! Join us for Black Friday and Shop Small Saturday- We will have discounts on selected items\, special goodies for shoppers and a chance to win a raffle! We will be open from 10-6 both days! *Black Friday! Starting on Friday the first 10 customers with a $20.00 purchase or more will receive a FREE cosmetic bag stuffed with wonderful samples from our friend Jenny Angley Skincare! *With each $10.00 purchase you spend in our store you will get an entry to win (1) of 3 cosmetic bags stuffed with over $60.00 of goodies from our store\, in each bag- Total Value $200.00 We will also have discounts on selected items! *SHOP SMALL SATURDAY! The FUN continues! The first 6 people to stop by will get a Shop Local Tote! We will also have entries for the Shop Local Drawing that our friends at the Mendocino Coast Chamber of Commerce & Visitor Center will have! Many wonderful prizes donated from local businesses! The first 10 people with a purchase of $20.00 or more on Saturday will receive a shopping tote with a surpise goodie in it! We LOVE this COMMUNITY and are so thankful to be part of it!
X-ALT-DESC;FMTTYPE=text/html:2 Days of Celebration at Interior! Join us for Black Friday and Shop Small Saturday- We will have discounts on selected items\, special goodies for shoppers and a chance to win a raffle! We will be open from 10-6 both days! *Black Friday! Starting on Friday the first 10 customers with a $20.00 purchase or more will receive a FREE cosmetic bag stuffed with wonderful samples from our friend Jenny Angley Skincare! *With each $10.00 purchase you spend in our store you will get an entry to win (1) of 3 cosmetic bags stuffed with over $60.00 of goodies from our store\, in each bag- Total Value $200.00 We will also have discounts on selected items! *SHOP SMALL SATURDAY! The FUN continues! The first 6 people to stop by will get a Shop Local Tote! We will also have entries for the Shop Local Drawing that our friends at the Mendocino Coast Chamber of Commerce &amp\; Visitor Center will have! Many wonderful prizes donated from local businesses! The first 10 people with a purchase of $20.00 or more on Saturday will receive a shopping tote with a surpise goodie in it! We LOVE this COMMUNITY and are so thankful to be part of it!
LOCATION:224 East Redwood\, Fort Bragg\, CA
UID:e.2883.5476
SEQUENCE:3
DTSTAMP:20260423T190331Z
URL:http://mendocinocoast.smartcms.site/events/details/2-day-celebration-5476
END:VEVENT

END:VCALENDAR
