BEGIN:VCALENDAR
VERSION:2.0
PRODID:-//ChamberMaster//Event Calendar 2.0//EN
METHOD:PUBLISH
X-PUBLISHED-TTL:P3D
REFRESH-INTERVAL:P3D
CALSCALE:GREGORIAN
BEGIN:VEVENT
DTSTART:20191106T180000Z
DTEND:20191107T010000Z
X-MICROSOFT-CDO-ALLDAYEVENT:FALSE
SUMMARY:1st Wednesday Free Admission Day - Mendocino County Museum
DESCRIPTION:Enjoy FREE admission the the Mendocino County Museum the first Wednesday of every month. The current exhibit Natural Expressions: Art Inspired by Mendocino County features arts and crafts showcasing the beauty and diversity of Mendocino County's landscapes and resources. The mixed media exhibit includes paintings\, fiber art\, and various crafts made from Mendocino County's rich natural resources such as mushrooms\, driftwood\, shells\, redwood\, and leather. Works from beloved Mendocino County artists such as Lorenzo Latimer\, Grace Hudson\, and Mark Walker will be on display. In addition\, nature inspired weaving\, quilting\, woodworking\, and leather working will be exhibited. Museum Hours: Wednesday - Friday 10 a.m. - 5 p.m. Saturday - Sunday 12 p.m. - 4 p.m.
X-ALT-DESC;FMTTYPE=text/html:Enjoy FREE admission the the Mendocino County Museum the first Wednesday of every month. The current exhibit Natural Expressions: Art Inspired by Mendocino County features arts and crafts showcasing the beauty and diversity of Mendocino County&rsquo\;s landscapes and resources. The mixed media exhibit includes paintings\, fiber art\, and various crafts made from Mendocino County&rsquo\;s rich natural resources such as mushrooms\, driftwood\, shells\, redwood\, and leather. Works from beloved Mendocino County artists such as Lorenzo Latimer\, Grace Hudson\, and Mark Walker will be on display. In addition\, nature inspired weaving\, quilting\, woodworking\, and leather working will be exhibited. Museum Hours: Wednesday - Friday 10 a.m. - 5 p.m. Saturday - Sunday 12 p.m. - 4 p.m.
LOCATION:Mendocino County Museum 400 E. Commercial St. Willits\, CA 95490
UID:e.2883.12452
SEQUENCE:3
DTSTAMP:20260422T011729Z
URL:http://mendocinocoast.smartcms.site/events/details/1st-wednesday-free-admission-day-mendocino-county-museum-12452
END:VEVENT

END:VCALENDAR
