BEGIN:VCALENDAR
VERSION:2.0
PRODID:-//ChamberMaster//Event Calendar 2.0//EN
METHOD:PUBLISH
X-PUBLISHED-TTL:P3D
REFRESH-INTERVAL:P3D
CALSCALE:GREGORIAN
BEGIN:VEVENT
DTSTART:20180902T190000Z
DTEND:20180903T010000Z
X-MICROSOFT-CDO-ALLDAYEVENT:FALSE
SUMMARY:19th Annual Harbor & Seafood Festival
DESCRIPTION:This is an event that you don't want to miss: a perfect setting with amazing food\, stunning views\, great company and all for a good cause   to raise money to keep our local pier operating all year long! This year's "Harborfest" menu features oysters\, albacore kebabs\, fish tacos\, abalone cakes and abalone cakes! Libations include craft beer courtesy of North Coast Brewery\, assorted wines and non-alcoholic beverages.
X-ALT-DESC;FMTTYPE=text/html:This is an event that you don&rsquo\;t want to miss: a perfect setting with amazing food\, stunning views\, great company and all for a good cause &ndash\; to raise money to keep our local pier operating all year long! This year&rsquo\;s &ldquo\;Harborfest&rdquo\; menu features oysters\, albacore kebabs\, fish tacos\, abalone cakes and abalone cakes! Libations include craft beer courtesy of North Coast Brewery\, assorted wines and non-alcoholic beverages.
LOCATION:Point Arena Pier
UID:e.2883.9357
SEQUENCE:3
DTSTAMP:20260423T003627Z
URL:http://mendocinocoast.smartcms.site/events/details/19th-annual-harbor-seafood-festival-9357
END:VEVENT

END:VCALENDAR
