BEGIN:VCALENDAR
VERSION:2.0
PRODID:-//ChamberMaster//Event Calendar 2.0//EN
METHOD:PUBLISH
X-PUBLISHED-TTL:P3D
REFRESH-INTERVAL:P3D
CALSCALE:GREGORIAN
BEGIN:VEVENT
DTSTART;VALUE=DATE:20190529
DTEND;VALUE=DATE:20190603
TRANSP:TRANSPARENT
X-MICROSOFT-CDO-ALLDAYEVENT:TRUE
SUMMARY:14th Annual Mendocino Film Festival
DESCRIPTION:We are delighted to present our Fourteenth Annual Mendocino Film Festival program\, featuring five Oscar nominations (including two wins)\, thirteen films fresh from Sundance\, three films from SXSW\, and an array of award-winning independent and international films\, all in this unforgettable destination. May 30 - June 2\, 2019\n\n\n\nThis year's Program will be available on April 15\, 2019. \n\n\n\nFor more information and tickets\, visit www.mendocinofilmfestival.org
X-ALT-DESC;FMTTYPE=text/html:<span style="color: rgb(29\, 33\, 41)\; font-family: &quot\;Helvetica Neue&quot\;\, Helvetica\, Arial\, sans-serif\; font-size: 14px\; white-space: pre-wrap\;">We are delighted to present our Fourteenth Annual Mendocino Film Festival program\, featuring five Oscar nominations (including two wins)\, thirteen films fresh from Sundance\, three films from SXSW\, and an array of award-winning independent and international films\, all in this unforgettable destination. May 30 - June 2\, 2019</span><br style="color: rgb(29\, 33\, 41)\; font-family: &quot\;Helvetica Neue&quot\;\, Helvetica\, Arial\, sans-serif\; font-size: 14px\; white-space: pre-wrap\;" />\n<br style="color: rgb(29\, 33\, 41)\; font-family: &quot\;Helvetica Neue&quot\;\, Helvetica\, Arial\, sans-serif\; font-size: 14px\; white-space: pre-wrap\;" />\n<span style="color: rgb(29\, 33\, 41)\; font-family: &quot\;Helvetica Neue&quot\;\, Helvetica\, Arial\, sans-serif\; font-size: 14px\; white-space: pre-wrap\;">This year&#39\;s Program will be available on April 15\, 2019. </span><br style="color: rgb(29\, 33\, 41)\; font-family: &quot\;Helvetica Neue&quot\;\, Helvetica\, Arial\, sans-serif\; font-size: 14px\; white-space: pre-wrap\;" />\n<br style="color: rgb(29\, 33\, 41)\; font-family: &quot\;Helvetica Neue&quot\;\, Helvetica\, Arial\, sans-serif\; font-size: 14px\; white-space: pre-wrap\;" />\n<span style="color: rgb(29\, 33\, 41)\; font-family: &quot\;Helvetica Neue&quot\;\, Helvetica\, Arial\, sans-serif\; font-size: 14px\; white-space: pre-wrap\;">For more information and tickets\, visit </span><a data-lynx-mode="hover" data-lynx-uri="https://l.facebook.com/l.php?u=http%3A%2F%2Fwww.mendocinofilmfestival.org%2F%3Ffbclid%3DIwAR2uLER-BKyMGsVppnz5qz6PXX9Dkqv3ik91pdaMvOfv4sp1fDZ0htDQnjI&amp\;h=AT3w29E3glD117nmFGbpS-SO0vZpqlfegWEL_boBbS-3MkGVG30uun0aLQdvWMFGE5puG8_k7dTX0AfoR69nFECmdY1PvVzj-2SicXYOpup0xafhqeLnSrmDKu6p4QRiTfE5N9c" href="http://www.mendocinofilmfestival.org/?fbclid=IwAR2uLER-BKyMGsVppnz5qz6PXX9Dkqv3ik91pdaMvOfv4sp1fDZ0htDQnjI" rel="nofollow noopener" style="color: rgb(54\, 88\, 153)\; cursor: pointer\; text-decoration-line: none\; font-family: &quot\;Helvetica Neue&quot\;\, Helvetica\, Arial\, sans-serif\; font-size: 14px\; white-space: pre-wrap\;" target="_blank">www.mendocinofilmfestival.org</a>
LOCATION:Mendocino and Fort Bragg
UID:e.2883.11392
SEQUENCE:3
DTSTAMP:20260422T094550Z
URL:http://mendocinocoast.smartcms.site/events/details/14th-annual-mendocino-film-festival-11392
END:VEVENT

END:VCALENDAR
