BEGIN:VCALENDAR
VERSION:2.0
PRODID:-//ChamberMaster//Event Calendar 2.0//EN
METHOD:PUBLISH
X-PUBLISHED-TTL:P3D
REFRESH-INTERVAL:P3D
CALSCALE:GREGORIAN
BEGIN:VEVENT
DTSTART:20180421T190000Z
DTEND:20180422T000000Z
X-MICROSOFT-CDO-ALLDAYEVENT:FALSE
SUMMARY:12th Annual Earth Day Event at Noyo Food Forest
DESCRIPTION:This annual family event supports the Farm-to-School and Youth Intern Programs at The Learning Garden   with live entertainment and music\, super fun educational kids activities\, informational workshops\, Spring plant sale\, culinary love from local chefs and our garden!
X-ALT-DESC;FMTTYPE=text/html:This annual family event supports the Farm-to-School and Youth Intern Programs at The Learning Garden &ndash\; with live entertainment and music\, super fun educational kids activities\, informational workshops\, Spring plant sale\, culinary love from local chefs and our garden!
LOCATION:Noyo Food Forest 300-A Dana Street Fort Bragg CA 95437
UID:e.2883.5585
SEQUENCE:3
DTSTAMP:20260423T091635Z
URL:http://mendocinocoast.smartcms.site/events/details/12th-annual-earth-day-event-at-noyo-food-forest-5585
END:VEVENT

END:VCALENDAR
